BEGIN:VCALENDAR
VERSION:2.0
PRODID:-//Biochemischer Verein Bühl - ECPv6.15.20//NONSGML v1.0//EN
CALSCALE:GREGORIAN
METHOD:PUBLISH
X-WR-CALNAME:Biochemischer Verein Bühl
X-ORIGINAL-URL:https://www.biochemischer-verein-buehl.de
X-WR-CALDESC:Veranstaltungen für Biochemischer Verein Bühl
REFRESH-INTERVAL;VALUE=DURATION:PT1H
X-Robots-Tag:noindex
X-PUBLISHED-TTL:PT1H
BEGIN:VTIMEZONE
TZID:UTC
BEGIN:STANDARD
TZOFFSETFROM:+0000
TZOFFSETTO:+0000
TZNAME:UTC
DTSTART:20250101T000000
END:STANDARD
END:VTIMEZONE
BEGIN:VEVENT
DTSTART;TZID=UTC:20260613T100000
DTEND;TZID=UTC:20260613T140000
DTSTAMP:20260423T093127
CREATED:20260402T101329Z
LAST-MODIFIED:20260402T101331Z
UID:2135-1781344800-1781359200@www.biochemischer-verein-buehl.de
SUMMARY:Wasser - Lymphe - Ausleitung – Biochemie n. Dr. Schüßler
DESCRIPTION:Das Seminar findet im Gemeindehaus Kappelwindeck\, Kappelwindeckstr. 26 in Bühl statt. \n\n\n\n\n\n\n\n\n\n\n\n\nChristophe Chesnais\, Heilpraktiker\, Osteopath und Ernährungstherapeut \n\n\n\n\n\n\nChristophe Chesnais\, Heilpraktiker und Osteopath\, berichtet über die Rolle des Wassers in unserem Körper: es ermöglicht nicht nur alle Stoffwechselvorgänge in uns\, sondern seine Menge\, Qualität und Beweglichkeit sichern die Gesundheit all unserer Zellen.  \n\n\n\nUmgekehrt jede Einschränkung seiner Qualitäten macht unsere Zellen anfälliger für Krankheiten\, von außen wie innen\, und beeinflusst die Funktion aller Mineralstoffe.  \n\n\n\nEine gesunde Lebens- und Ernährungsweise sowie die biochemische Heilweise nach Dr. Schüßler tragen zu einem gesunden Wasserhaushalt bei. \n\n\n\n \n\n\n\nOrt: Gemeindehaus Kappelwindeck\, Kappelwindeckstr. 26 in BühlEintritt: 20 € für Nicht-MitgliederVon 10.00 bis 14.00 Uhr
URL:https://www.biochemischer-verein-buehl.de/event/wasser-lymphe-ausleitung-biochemie-n-dr-schuessler/
CATEGORIES:Bühl
ATTACH;FMTTYPE=image/jpeg:https://www.biochemischer-verein-buehl.de/wp-content/uploads/2025/01/Christoph-Chesnais.jpg
END:VEVENT
END:VCALENDAR