BEGIN:VCALENDAR
VERSION:2.0
PRODID:-//Biochemischer Verein Bühl - ECPv6.15.20//NONSGML v1.0//EN
CALSCALE:GREGORIAN
METHOD:PUBLISH
X-WR-CALNAME:Biochemischer Verein Bühl
X-ORIGINAL-URL:https://www.biochemischer-verein-buehl.de
X-WR-CALDESC:Veranstaltungen für Biochemischer Verein Bühl
REFRESH-INTERVAL;VALUE=DURATION:PT1H
X-Robots-Tag:noindex
X-PUBLISHED-TTL:PT1H
BEGIN:VTIMEZONE
TZID:UTC
BEGIN:STANDARD
TZOFFSETFROM:+0000
TZOFFSETTO:+0000
TZNAME:UTC
DTSTART:20250101T000000
END:STANDARD
END:VTIMEZONE
BEGIN:VEVENT
DTSTART;TZID=UTC:20260611T190000
DTEND;TZID=UTC:20260611T210000
DTSTAMP:20260423T091004
CREATED:20260218T202654Z
LAST-MODIFIED:20260218T202658Z
UID:2123-1781204400-1781211600@www.biochemischer-verein-buehl.de
SUMMARY:Stoffwechselstörungen kurieren mit Schüßler-Salzenund Mitteln der Naturheilkunde
DESCRIPTION:Dieser Vortrag findet über ZOOM statt! \n\n\n\n\n\n\n\n\n\n\n\n\nPeter EmmrichDipl. Biologe\, Facharzt für Allgemeinmedizin\, Pforzheim \n\n\n\n\n\n\n \n\n\n\nOptimieren Sie Ihren gestörten Zellstoffwechsel bei Beschwerden von Allergien bis Rheuma\, Hautausschlägen und Schmerzen. \n\n\n\nMit freundlicher Unterstützung durch die Firma DHU Karlsruhe. \n\n\n\nHier geht es zum ZOOM Online-Vortrag
URL:https://www.biochemischer-verein-buehl.de/event/stoffwechselstoerungen-kurieren-mit-schuessler-salzenund-mitteln-der-naturheilkunde/
CATEGORIES:Zoom
ATTACH;FMTTYPE=image/jpeg:https://www.biochemischer-verein-buehl.de/wp-content/uploads/Peter-Emmrich.jpg
END:VEVENT
END:VCALENDAR