BEGIN:VCALENDAR
VERSION:2.0
PRODID:-//Biochemischer Verein Bühl - ECPv6.15.20//NONSGML v1.0//EN
CALSCALE:GREGORIAN
METHOD:PUBLISH
X-WR-CALNAME:Biochemischer Verein Bühl
X-ORIGINAL-URL:https://www.biochemischer-verein-buehl.de
X-WR-CALDESC:Veranstaltungen für Biochemischer Verein Bühl
REFRESH-INTERVAL;VALUE=DURATION:PT1H
X-Robots-Tag:noindex
X-PUBLISHED-TTL:PT1H
BEGIN:VTIMEZONE
TZID:UTC
BEGIN:STANDARD
TZOFFSETFROM:+0000
TZOFFSETTO:+0000
TZNAME:UTC
DTSTART:20250101T000000
END:STANDARD
END:VTIMEZONE
BEGIN:VEVENT
DTSTART;TZID=UTC:20260424T170000
DTEND;TZID=UTC:20260424T183000
DTSTAMP:20260423T025932
CREATED:20260218T203634Z
LAST-MODIFIED:20260419T075643Z
UID:2128-1777050000-1777055400@www.biochemischer-verein-buehl.de
SUMMARY:Schüßler-Salze für einen sanften Darm
DESCRIPTION:Angelika Gräfin Wolffskeel von Reichenberg\, Heilpraktikerin Gerchsheim \n\n\n\n\n\n\n \n\n\n\nWas kann der Darm? \n\n\n\nLange galt der Darm nur als Verdauungsorgan\, inzwischen begreift die medizinische Forschung ihn als komplexes System. Der Darm besitzt ein umfangreiches Nervensystem\, sodass er von manchen auch als „zweites Gehirn“ bezeichnet wird. Über seine unzähligen Nervenverbindungen tauscht er sich permanent mit dem Gehirn aus. An der Kommunikation zwischen Darm und Gehirn sind auch Botenstoffe von Nervenzellen beteiligt. Zum Beispiel Serotonin: Es spielt sowohl im Darm als auch im Zentralnervensystem eine Rolle und beeinflusst unter anderem die Darmbewegung\, den Appetit oder das Schmerzempfinden. \n\n\n\nDie Bakterien im Darm produzieren zudem Neurobotenstoffe\, die sich auf Stimmung\, Gefühlsleben und Verhalten auswirken könnten. Ebenfalls bedeutend ist die Funktion des Darms für das Immunsystem: „Etwa 70 Prozent der körpereigenen Abwehrzellen liegen im Darm“\, dort gibt es das am dichtesten besiedelte Ökosystem des Planeten\, das Mikrobiom.“ Es besteht aus Billionen von Bakterien\, bis zu 2000 unterschiedliche Spezies. „Im Darm ist es schön warm\, etwa 37 Grad\, immer ein bisschen schleimig und feucht. Das lieben die winzigen Mitbewohner.“ Sie helfen dabei\, Krankheitserregern den Zutritt zu verwehren. Kommt es im Darm zu Störungen\, wird deshalb oft auch das Immunsystem geschwächt\, Folgeorgane und vieles mehr. \n\n\n\nDie Zusammensetzung unserer Darmflora beeinflusst die Gesundheit\, die Stimmung und sogar das Gewicht. Die Verdauung beginnt im Mund und wird im Magen-Darm fortgesetzt. Bei einem gesunden Darm verhindern die Abwehrzellen\, dass Bakterien\, Pilze und andere Eindringlinge\, die mit der Nahrung in den Verdauungstrakt gelangen\, vom Körper aufgenommen werden. Ein Darm kann aber noch viel mehr. Er ist ein Wunderwerk des Widerstandes gegen Krankheiten\, hält fit und gesund. \n\n\n\nDamit er reibungslos funktionieren kann\, müssen die Bakterien der Darmflora im richtigen Gleichgewicht sein. Wie kann das alles gelingen? Die Referentin spürt in ihrem Vortrag genau diesen Fragestellungen nach und bietet Lösungswege an. Einer davon sind die Schüßler-Salze\, als wahre Gesundheitserreger. \n\n\n\nWir freuen uns auf Ihre Teilnahme\,egal ob online oder vor Ort in Damstadt. \n\n\n\nMit freundlicher Unterstützung durch die Firma DHU Karlsruhe. \n\n\n\nDer Vortrag findet statt im Vortragssaal der Universitäts- und Landesbibliothek Darmstadt in der Magdalenenstr. 8und wird von dort aus live übertragen.–  Gäste sind herzlich willkommen  –  Der Eintritt ist frei !  – \n\n\n\nNachstehend finden Sie die Zugangsdaten zum Vortrag: \n\n\n\nEinwahl über eine installierte ZOOM AppMeeting-ID / Webinar-ID: 897 1455 9819Kenncode: 403160 \n\n\n\nEinwahl über einen Direkt-Link:https://us06web.zoom.us/j/89714559819?pwd=TWtRK2NaOERBT0JWaGxGemhSMDN4UT09Kenncode: 403160
URL:https://www.biochemischer-verein-buehl.de/event/schuessler-salze-fuer-einen-sanften-darm-2/
CATEGORIES:Zoom
ATTACH;FMTTYPE=image/jpeg:https://www.biochemischer-verein-buehl.de/wp-content/uploads/angelika-graefin-wolffskeel.jpg
END:VEVENT
END:VCALENDAR