BEGIN:VCALENDAR
VERSION:2.0
PRODID:-//Biochemischer Verein Bühl - ECPv6.15.20//NONSGML v1.0//EN
CALSCALE:GREGORIAN
METHOD:PUBLISH
X-WR-CALNAME:Biochemischer Verein Bühl
X-ORIGINAL-URL:https://www.biochemischer-verein-buehl.de
X-WR-CALDESC:Veranstaltungen für Biochemischer Verein Bühl
REFRESH-INTERVAL;VALUE=DURATION:PT1H
X-Robots-Tag:noindex
X-PUBLISHED-TTL:PT1H
BEGIN:VTIMEZONE
TZID:UTC
BEGIN:STANDARD
TZOFFSETFROM:+0000
TZOFFSETTO:+0000
TZNAME:UTC
DTSTART:20250101T000000
END:STANDARD
END:VTIMEZONE
BEGIN:VEVENT
DTSTART;TZID=UTC:20260321T100000
DTEND;TZID=UTC:20260321T140000
DTSTAMP:20260423T081106
CREATED:20250708T130937Z
LAST-MODIFIED:20260225T101811Z
UID:2076-1774087200-1774101600@www.biochemischer-verein-buehl.de
SUMMARY:Seminar über Biotypen\, Bindegewebe und Biochemie
DESCRIPTION:Das Seminar findet im Gemeindehaus Kappelwindeck\, Kappelwindeckstr. 26 in Bühl statt. \n\n\n\n\n\n\n\n\n\n\n\n\nChristophe Chesnais\, Heilpraktiker\, Osteopath und Ernährungstherapeut \n\n\n\n\n\n\nDer Verein für natürliche Lebensweise und Biochemie nach Dr. Schüßler Bühl/Baden-Baden e.V. veranstaltet am Samstag\, den 21. März von 10 bis 14 Uhr ein Seminar mit Heilpraktiker Christophe Chesnais aus Bühl.  \n\n\n\nEr berichtet über die Rolle des Bindegewebes als Organ der Form in unserem Körper. Dort ist nicht nur der Ursprung von Form und Funktion der verschiedenen Biotypen zu finden\, sondern auch der Ursprung von Krankheiten zu suchen und die Regeneration einzuleiten. Über die Kenntnis der Biotypen gelang man schneller bei der Suche nach den geeigneten Schüßler-Salzen zur Gesundung. \n\n\n\nOrt: Gemeindehaus Kappelwindeck\, Kappelwindeckstr. 26 in BühlEintritt: 20 € für Nicht-MitgliederVon 10.00 bis 14.00 Uhr
URL:https://www.biochemischer-verein-buehl.de/event/die-biochemische-heilweise-des-bewegungsapparates-anwendung-fuer-muskeln-knochen-gelenke-und-vor-allem-fuer-das-bindegewebe/
CATEGORIES:Bühl
ATTACH;FMTTYPE=image/jpeg:https://www.biochemischer-verein-buehl.de/wp-content/uploads/2025/01/Christoph-Chesnais.jpg
END:VEVENT
END:VCALENDAR